BEGIN:VCALENDAR
VERSION:2.0
PRODID:-//Haller &amp; Partner Fachanwälte |  Rechtsanwaltskanzlei Villingen-Schwenningen - ECPv5.10.0//NONSGML v1.0//EN
CALSCALE:GREGORIAN
METHOD:PUBLISH
X-WR-CALNAME:Haller &amp; Partner Fachanwälte |  Rechtsanwaltskanzlei Villingen-Schwenningen
X-ORIGINAL-URL:https://old.kanzlei-vs.de
X-WR-CALDESC:Veranstaltungen für Haller &amp; Partner Fachanwälte |  Rechtsanwaltskanzlei Villingen-Schwenningen
BEGIN:VTIMEZONE
TZID:Europe/Berlin
BEGIN:DAYLIGHT
TZOFFSETFROM:+0100
TZOFFSETTO:+0200
TZNAME:CEST
DTSTART:20190331T010000
END:DAYLIGHT
BEGIN:STANDARD
TZOFFSETFROM:+0200
TZOFFSETTO:+0100
TZNAME:CET
DTSTART:20191027T010000
END:STANDARD
END:VTIMEZONE
BEGIN:VEVENT
DTSTART;TZID=Europe/Berlin:20191121T140000
DTEND;TZID=Europe/Berlin:20191121T193000
DTSTAMP:20260421T173135
CREATED:20190902T095309Z
LAST-MODIFIED:20190902T115957Z
UID:3415-1574344800-1574364600@old.kanzlei-vs.de
SUMMARY:Bochum: Erprobte Strategien bei der Abwehr von Insolvenzanfechtungsansprüchen
DESCRIPTION:Das insolvenzrechtliche Anfechtungsrecht ist eines der „Hauptwerkzeuge“ des Insolvenzverwalters zur Generierung von Masse. In Zeiten vieler\, aber häufig wenig massehaltiger Verfahren gelingt es meist nur durch das Auffinden und Durchsetzen von Anfechtungsansprüchen\, ein Verfahren zu eröffnen und zufriedenstellende Verwaltervergütungen zu generieren. Das Anfechtungsrecht ist hierbei in wesentlichen Teilen durch die aktuelle Rechtsprechung des IX. Senats des BGH geprägt\, sodass die sichere Kenntnis der aktuellen Rechtsprechung unerlässlich ist\, um effektiv Anfechtungsansprüche geltend zu machen und durchzusetzen. \nDamit optimale Ergebnisse erzielt werden\, muss – und kann – sich der Sachbearbeiter oft entsprechende Sachverhalte (und damit: anwaltliche Gegenstandswerte und Verwaltervergütungen!) in einem für übliche anwaltliche Tätigkeiten ungewohntem Maß selbst erarbeiten. \nDer Referent zeigt Strategien der Informationsgewinnung (u. a. unter Ausnutzung der Informationsrechte gem. IFG und §§ 97ff InsO)\, übliche und lohnende Fallgruppen und Probleme sowie übliche Vorgehensweisen gegenüber Gläubigern auf. \nZiel der Veranstaltung ist es\, Teilnehmern das notwendige theoretische und praktische Rüstzeug zu vermitteln\, um in der Position des Insolvenzverwalters das Anfechtungsrecht zielgerichtet zur Masseoptimierung einsetzen und nutzen zu können. \nDie Teilnehmer erhalten eine instruktive und ausführliche Arbeitsunterlage und Arbeitshilfen für die praktische Sachbearbeitung. Eine Fallstudie für die Teilnehmer anhand eines fiktiven Falls mit Unterlagen rundet das Seminar ab.
URL:https://old.kanzlei-vs.de/event/bochum-erprobte-strategien-bei-der-abwehr-von-insolvenzanfechtungsanspruechen/
LOCATION:Deutsches Anwaltsinstitut e.V. Bochum\, Universitätsstraße 140\, Bochum\, 44799\, Deutschland
CATEGORIES:Insolvenzrecht
ORGANIZER;CN="Deutsches%20Anwaltsinstitut%20e.V.":MAILTO:info@anwaltsinstitut.de
END:VEVENT
END:VCALENDAR