BEGIN:VCALENDAR
VERSION:2.0
PRODID:-//Haller &amp; Partner Fachanwälte |  Rechtsanwaltskanzlei Villingen-Schwenningen - ECPv5.10.0//NONSGML v1.0//EN
CALSCALE:GREGORIAN
METHOD:PUBLISH
X-WR-CALNAME:Haller &amp; Partner Fachanwälte |  Rechtsanwaltskanzlei Villingen-Schwenningen
X-ORIGINAL-URL:https://old.kanzlei-vs.de
X-WR-CALDESC:Veranstaltungen für Haller &amp; Partner Fachanwälte |  Rechtsanwaltskanzlei Villingen-Schwenningen
BEGIN:VTIMEZONE
TZID:Europe/Berlin
BEGIN:DAYLIGHT
TZOFFSETFROM:+0100
TZOFFSETTO:+0200
TZNAME:CEST
DTSTART:20190331T010000
END:DAYLIGHT
BEGIN:STANDARD
TZOFFSETFROM:+0200
TZOFFSETTO:+0100
TZNAME:CET
DTSTART:20191027T010000
END:STANDARD
END:VTIMEZONE
BEGIN:VEVENT
DTSTART;VALUE=DATE:20190209
DTEND;VALUE=DATE:20190210
DTSTAMP:20260422T013441
CREATED:20180927T140630Z
LAST-MODIFIED:20180928T060702Z
UID:3034-1549670400-1549756799@old.kanzlei-vs.de
SUMMARY:Kiel: Erprobte Strategien bei der Abwehr von Insolvenzanfechtungsansprüchen
DESCRIPTION:
URL:https://old.kanzlei-vs.de/event/erprobte-strategien-bei-der-abwehr-von-insolvenzanfechtungsanspruechen/
LOCATION:Haus des Sports\, Kiel\, Deutschland
CATEGORIES:Insolvenzrecht
ORGANIZER;CN="Deutsches%20Anwaltsinstitut%20e.V.":MAILTO:info@anwaltsinstitut.de
END:VEVENT
END:VCALENDAR