BEGIN:VCALENDAR
VERSION:2.0
PRODID:-//Haller &amp; Partner Fachanwälte |  Rechtsanwaltskanzlei Villingen-Schwenningen - ECPv5.10.0//NONSGML v1.0//EN
CALSCALE:GREGORIAN
METHOD:PUBLISH
X-WR-CALNAME:Haller &amp; Partner Fachanwälte |  Rechtsanwaltskanzlei Villingen-Schwenningen
X-ORIGINAL-URL:https://old.kanzlei-vs.de
X-WR-CALDESC:Veranstaltungen für Haller &amp; Partner Fachanwälte |  Rechtsanwaltskanzlei Villingen-Schwenningen
BEGIN:VTIMEZONE
TZID:Europe/Berlin
BEGIN:DAYLIGHT
TZOFFSETFROM:+0100
TZOFFSETTO:+0200
TZNAME:CEST
DTSTART:20210328T010000
END:DAYLIGHT
BEGIN:STANDARD
TZOFFSETFROM:+0200
TZOFFSETTO:+0100
TZNAME:CET
DTSTART:20211031T010000
END:STANDARD
END:VTIMEZONE
BEGIN:VEVENT
DTSTART;TZID=Europe/Berlin:20210806T100000
DTEND;TZID=Europe/Berlin:20210806T124500
DTSTAMP:20260421T141133
CREATED:20210510T122001Z
LAST-MODIFIED:20210510T122001Z
UID:4017-1628244000-1628253900@old.kanzlei-vs.de
SUMMARY:Zahlungsunfähigkeit: Definition\, Bedeutung\, praktische Probleme\, Darlegungs- und Beweislast und Prozessuales
DESCRIPTION:
URL:https://old.kanzlei-vs.de/event/zahlungsunfaehigkeit-definition-bedeutung-praktische-probleme-darlegungs-und-beweislast-und-prozessuales/
LOCATION:Deutsches Anwaltsinstitut e.V. Bochum\, Universitätsstraße 140\, Bochum\, 44799\, Deutschland
CATEGORIES:Insolvenzrecht
ORGANIZER;CN="Deutsches%20Anwaltsinstitut%20e.V.":MAILTO:info@anwaltsinstitut.de
END:VEVENT
END:VCALENDAR