BEGIN:VCALENDAR
VERSION:2.0
PRODID:-//Haller &amp; Partner Fachanwälte |  Rechtsanwaltskanzlei Villingen-Schwenningen - ECPv5.10.0//NONSGML v1.0//EN
CALSCALE:GREGORIAN
METHOD:PUBLISH
X-WR-CALNAME:Haller &amp; Partner Fachanwälte |  Rechtsanwaltskanzlei Villingen-Schwenningen
X-ORIGINAL-URL:https://old.kanzlei-vs.de
X-WR-CALDESC:Veranstaltungen für Haller &amp; Partner Fachanwälte |  Rechtsanwaltskanzlei Villingen-Schwenningen
BEGIN:VTIMEZONE
TZID:Europe/Berlin
BEGIN:DAYLIGHT
TZOFFSETFROM:+0100
TZOFFSETTO:+0200
TZNAME:CEST
DTSTART:20200329T010000
END:DAYLIGHT
BEGIN:STANDARD
TZOFFSETFROM:+0200
TZOFFSETTO:+0100
TZNAME:CET
DTSTART:20201025T010000
END:STANDARD
END:VTIMEZONE
BEGIN:VEVENT
DTSTART;TZID=Europe/Berlin:20200609T100000
DTEND;TZID=Europe/Berlin:20200609T124500
DTSTAMP:20260421T172015
CREATED:20190827T071709Z
LAST-MODIFIED:20191120T104854Z
UID:3412-1591696800-1591706700@old.kanzlei-vs.de
SUMMARY:Zahlungsunfähigkeit im Insolvenzanfechtungsrecht
DESCRIPTION:Voraussetzungen\, Nachweise\, Darlegung – und Beweislast sowie Prozessuales
URL:https://old.kanzlei-vs.de/event/zahlungsunfaehigkeit-im-insolvenzanfechtungsrecht/
LOCATION:Online-Fortbildung
CATEGORIES:Insolvenzrecht
ORGANIZER;CN="Deutsches%20Anwaltsinstitut%20e.V.":MAILTO:info@anwaltsinstitut.de
END:VEVENT
END:VCALENDAR